Package: extraChIPs Version: 1.8.5 Command: /home/biocbuild/bbs-3.19-bioc/R/bin/R CMD check --install=check:extraChIPs.install-out.txt --library=/home/biocbuild/bbs-3.19-bioc/R/site-library --timings extraChIPs_1.8.5.tar.gz StartedAt: 2024-10-17 00:21:00 -0400 (Thu, 17 Oct 2024) EndedAt: 2024-10-17 00:30:50 -0400 (Thu, 17 Oct 2024) EllapsedTime: 590.3 seconds RetCode: 0 Status: OK CheckDir: extraChIPs.Rcheck Warnings: 0