Package: extraChIPs Version: 1.8.5 Command: /home/biocbuild/bbs-3.19-bioc/R/bin/R CMD build --keep-empty-dirs --no-resave-data extraChIPs StartedAt: 2024-10-16 18:27:52 -0400 (Wed, 16 Oct 2024) EndedAt: 2024-10-16 18:29:45 -0400 (Wed, 16 Oct 2024) EllapsedTime: 113.2 seconds RetCode: 0 Status: OK PackageFile: extraChIPs_1.8.5.tar.gz PackageFileSize: 3.695 MiB