Package: extraChIPs Version: 1.8.5 Command: /Library/Frameworks/R.framework/Resources/bin/R CMD INSTALL extraChIPs StartedAt: 2024-10-16 16:08:40 -0400 (Wed, 16 Oct 2024) EndedAt: 2024-10-16 16:10:50 -0400 (Wed, 16 Oct 2024) EllapsedTime: 129.7 seconds RetCode: 0 Status: OK