Package: extraChIPs Version: 1.8.1 Command: /Library/Frameworks/R.framework/Resources/bin/R CMD check --install=check:extraChIPs.install-out.txt --library=/Library/Frameworks/R.framework/Resources/library --no-vignettes --timings extraChIPs_1.8.1.tar.gz StartedAt: 2024-06-09 20:19:42 -0400 (Sun, 09 Jun 2024) EndedAt: 2024-06-09 20:28:49 -0400 (Sun, 09 Jun 2024) EllapsedTime: 547.1 seconds RetCode: 0 Status: OK CheckDir: extraChIPs.Rcheck Warnings: 0