Package: extraChIPs Version: 1.8.1 Command: /Library/Frameworks/R.framework/Resources/bin/R CMD check --install=check:extraChIPs.install-out.txt --library=/Library/Frameworks/R.framework/Resources/library --no-vignettes --timings extraChIPs_1.8.1.tar.gz StartedAt: 2024-06-10 15:29:27 -0400 (Mon, 10 Jun 2024) EndedAt: 2024-06-10 15:44:39 -0400 (Mon, 10 Jun 2024) EllapsedTime: 912.4 seconds RetCode: 0 Status: OK CheckDir: extraChIPs.Rcheck Warnings: 0