Package: extraChIPs Version: 1.8.5 Command: /Library/Frameworks/R.framework/Resources/bin/R CMD INSTALL extraChIPs StartedAt: 2024-10-16 17:25:03 -0400 (Wed, 16 Oct 2024) EndedAt: 2024-10-16 17:26:12 -0400 (Wed, 16 Oct 2024) EllapsedTime: 68.9 seconds RetCode: 0 Status: OK