Package: exomePeak2 Version: 1.16.0 Command: chmod a+r exomePeak2 -R && F:\biocbuild\bbs-3.19-bioc\R\bin\R.exe CMD build --keep-empty-dirs --no-resave-data exomePeak2 StartedAt: 2024-06-26 18:46:56 -0400 (Wed, 26 Jun 2024) EndedAt: 2024-06-26 18:48:26 -0400 (Wed, 26 Jun 2024) EllapsedTime: 89.7 seconds RetCode: 0 Status: OK PackageFile: exomePeak2_1.16.0.tar.gz PackageFileSize: 2.274 MiB