Package: exomePeak2 Version: 1.16.0 Command: rm -rf exomePeak2.buildbin-libdir && mkdir exomePeak2.buildbin-libdir && F:\biocbuild\bbs-3.19-bioc\R\bin\R.exe CMD INSTALL --build --library=exomePeak2.buildbin-libdir exomePeak2_1.16.0.tar.gz StartedAt: 2024-06-27 08:11:41 -0400 (Thu, 27 Jun 2024) EndedAt: 2024-06-27 08:12:36 -0400 (Thu, 27 Jun 2024) EllapsedTime: 55.1 seconds RetCode: 0 Status: OK PackageFile: exomePeak2_1.16.0.zip PackageFileSize: 2.338 MiB