Package: exomePeak2 Version: 1.16.2 Command: /home/biocbuild/bbs-3.19-bioc/R/bin/R CMD INSTALL exomePeak2 StartedAt: 2024-10-16 16:15:52 -0400 (Wed, 16 Oct 2024) EndedAt: 2024-10-16 16:16:32 -0400 (Wed, 16 Oct 2024) EllapsedTime: 39.7 seconds RetCode: 0 Status: OK