Package: exomePeak2 Version: 1.16.2 Command: /home/biocbuild/bbs-3.19-bioc/R/bin/R CMD check --install=check:exomePeak2.install-out.txt --library=/home/biocbuild/bbs-3.19-bioc/R/site-library --timings exomePeak2_1.16.2.tar.gz StartedAt: 2024-10-17 00:20:13 -0400 (Thu, 17 Oct 2024) EndedAt: 2024-10-17 00:26:15 -0400 (Thu, 17 Oct 2024) EllapsedTime: 361.9 seconds RetCode: 0 Status: OK CheckDir: exomePeak2.Rcheck Warnings: 0