Package: exomePeak2 Version: 1.16.0 Command: /Library/Frameworks/R.framework/Resources/bin/R CMD INSTALL exomePeak2 StartedAt: 2024-06-09 15:23:34 -0400 (Sun, 09 Jun 2024) EndedAt: 2024-06-09 15:24:24 -0400 (Sun, 09 Jun 2024) EllapsedTime: 49.6 seconds RetCode: 0 Status: OK