Package: exomePeak2 Version: 1.16.0 Command: /Library/Frameworks/R.framework/Resources/bin/R CMD build --keep-empty-dirs --no-resave-data exomePeak2 StartedAt: 2024-06-09 16:37:47 -0400 (Sun, 09 Jun 2024) EndedAt: 2024-06-09 16:39:26 -0400 (Sun, 09 Jun 2024) EllapsedTime: 98.8 seconds RetCode: 0 Status: OK PackageFile: exomePeak2_1.16.0.tar.gz PackageFileSize: 2.274 MiB