Package: exomePeak2 Version: 1.16.2 Command: /Library/Frameworks/R.framework/Resources/bin/R CMD INSTALL exomePeak2 StartedAt: 2024-10-16 17:06:16 -0400 (Wed, 16 Oct 2024) EndedAt: 2024-10-16 17:07:06 -0400 (Wed, 16 Oct 2024) EllapsedTime: 50.2 seconds RetCode: 0 Status: OK