Package: exomePeak2 Version: 1.16.2 Command: /Library/Frameworks/R.framework/Resources/bin/R CMD build --keep-empty-dirs --no-resave-data exomePeak2 StartedAt: 2024-10-17 00:17:40 -0400 (Thu, 17 Oct 2024) EndedAt: 2024-10-17 00:19:28 -0400 (Thu, 17 Oct 2024) EllapsedTime: 108.2 seconds RetCode: 0 Status: OK PackageFile: exomePeak2_1.16.2.tar.gz PackageFileSize: 2.276 MiB