Package: evaluomeR Version: 1.20.5 Command: /Library/Frameworks/R.framework/Resources/bin/R CMD INSTALL evaluomeR StartedAt: 2024-10-16 16:33:00 -0400 (Wed, 16 Oct 2024) EndedAt: 2024-10-16 16:34:30 -0400 (Wed, 16 Oct 2024) EllapsedTime: 89.1 seconds RetCode: 0 Status: OK