Package: evaluomeR Version: 1.20.0 Command: /Library/Frameworks/R.framework/Resources/bin/R CMD INSTALL evaluomeR StartedAt: 2024-06-09 15:19:31 -0400 (Sun, 09 Jun 2024) EndedAt: 2024-06-09 15:20:22 -0400 (Sun, 09 Jun 2024) EllapsedTime: 50.5 seconds RetCode: 0 Status: OK