Package: evaluomeR Version: 1.20.5 Command: /Library/Frameworks/R.framework/Resources/bin/R CMD INSTALL evaluomeR StartedAt: 2024-10-16 18:21:53 -0400 (Wed, 16 Oct 2024) EndedAt: 2024-10-16 18:22:39 -0400 (Wed, 16 Oct 2024) EllapsedTime: 46.0 seconds RetCode: 0 Status: OK