Package: evaluomeR Version: 1.20.5 Command: /Library/Frameworks/R.framework/Resources/bin/R CMD check --install=check:evaluomeR.install-out.txt --library=/Library/Frameworks/R.framework/Resources/library --no-vignettes --timings evaluomeR_1.20.5.tar.gz StartedAt: 2024-10-17 21:16:15 -0400 (Thu, 17 Oct 2024) EndedAt: 2024-10-17 21:22:06 -0400 (Thu, 17 Oct 2024) EllapsedTime: 351.0 seconds RetCode: 0 Status: WARNINGS CheckDir: evaluomeR.Rcheck Warnings: 3