Package: evaluomeR Version: 1.20.5 Maintainer: José Antonio Bernabé-Díaz MaintainerEmail: joseantonio.bernabe1 at um.es git_url: https://git.bioconductor.org/packages/evaluomeR git_branch: RELEASE_3_19 git_last_commit: 5ba4674 git_last_commit_date: 2024-07-04 10:42:22 -0400 (Thu, 04 Jul 2024)