Package: eudysbiome Version: 1.34.0 Command: chmod a+r eudysbiome -R && E:\biocbuild\bbs-3.19-bioc\R\bin\R.exe CMD build --keep-empty-dirs --no-resave-data eudysbiome StartedAt: 2024-10-16 19:03:52 -0400 (Wed, 16 Oct 2024) EndedAt: 2024-10-16 19:04:16 -0400 (Wed, 16 Oct 2024) EllapsedTime: 23.2 seconds RetCode: 0 Status: OK PackageFile: eudysbiome_1.34.0.tar.gz PackageFileSize: 4.223 MiB