Package: eudysbiome Version: 1.34.0 Command: /home/biocbuild/bbs-3.19-bioc/R/bin/R CMD INSTALL eudysbiome StartedAt: 2024-10-16 16:07:00 -0400 (Wed, 16 Oct 2024) EndedAt: 2024-10-16 16:07:13 -0400 (Wed, 16 Oct 2024) EllapsedTime: 13.5 seconds RetCode: 0 Status: OK