Package: eudysbiome Version: 1.34.0 Command: /Library/Frameworks/R.framework/Resources/bin/R CMD build --keep-empty-dirs --no-resave-data eudysbiome StartedAt: 2024-10-16 19:07:52 -0400 (Wed, 16 Oct 2024) EndedAt: 2024-10-16 19:08:52 -0400 (Wed, 16 Oct 2024) EllapsedTime: 60.3 seconds RetCode: 0 Status: OK PackageFile: eudysbiome_1.34.0.tar.gz PackageFileSize: 4.377 MiB