Package: eudysbiome Version: 1.34.0 Command: /Library/Frameworks/R.framework/Resources/bin/R CMD check --install=check:eudysbiome.install-out.txt --library=/Library/Frameworks/R.framework/Resources/library --no-vignettes --timings eudysbiome_1.34.0.tar.gz StartedAt: 2024-06-09 20:16:34 -0400 (Sun, 09 Jun 2024) EndedAt: 2024-06-09 20:18:43 -0400 (Sun, 09 Jun 2024) EllapsedTime: 128.9 seconds RetCode: 0 Status: OK CheckDir: eudysbiome.Rcheck Warnings: 0