Package: eudysbiome Version: 1.34.0 Command: /home/biocbuild/R/R-beta-2024-04-15_r86425/bin/R CMD build --keep-empty-dirs --no-resave-data eudysbiome StartedAt: 2024-05-09 00:12:44 -0000 (Thu, 09 May 2024) EndedAt: 2024-05-09 00:13:07 -0000 (Thu, 09 May 2024) EllapsedTime: 23.0 seconds RetCode: 0 Status: OK PackageFile: eudysbiome_1.34.0.tar.gz PackageFileSize: 4.369 MiB