Package: eudysbiome Version: 1.34.0 Command: /Library/Frameworks/R.framework/Resources/bin/R CMD INSTALL eudysbiome StartedAt: 2024-06-09 15:48:17 -0400 (Sun, 09 Jun 2024) EndedAt: 2024-06-09 15:48:37 -0400 (Sun, 09 Jun 2024) EllapsedTime: 20.3 seconds RetCode: 0 Status: OK