Package: eudysbiome Version: 1.34.0 Command: rm -rf eudysbiome.buildbin-libdir && mkdir eudysbiome.buildbin-libdir && /Users/biocbuild/BBS/utils/build-universal.sh eudysbiome_1.34.0.tar.gz /Library/Frameworks/R.framework/Resources/bin/R eudysbiome.buildbin-libdir StartedAt: 2024-10-18 18:25:55 -0400 (Fri, 18 Oct 2024) EndedAt: 2024-10-18 18:26:15 -0400 (Fri, 18 Oct 2024) EllapsedTime: 19.2 seconds RetCode: 0 Status: OK PackageFile: eudysbiome_1.34.0.tgz PackageFileSize: 4.408 MiB