Package: eudysbiome Version: 1.34.0 Maintainer: Xiaoyuan Zhou MaintainerEmail: zhouxiaoyuan at picb.ac.cn git_url: https://git.bioconductor.org/packages/eudysbiome git_branch: RELEASE_3_19 git_last_commit: e5ffab7 git_last_commit_date: 2024-04-30 10:45:01 -0400 (Tue, 30 Apr 2024)