Package: esetVis Version: 1.30.0 Command: chmod a+r esetVis -R && E:\biocbuild\bbs-3.19-bioc\R\bin\R.exe CMD build --keep-empty-dirs --no-resave-data esetVis StartedAt: 2024-10-16 19:03:50 -0400 (Wed, 16 Oct 2024) EndedAt: 2024-10-16 19:09:04 -0400 (Wed, 16 Oct 2024) EllapsedTime: 314.0 seconds RetCode: 0 Status: OK PackageFile: esetVis_1.30.0.tar.gz PackageFileSize: 2.485 MiB