Package: esetVis Version: 1.30.0 Command: rm -rf esetVis.buildbin-libdir && mkdir esetVis.buildbin-libdir && E:\biocbuild\bbs-3.19-bioc\R\bin\R.exe CMD INSTALL --build --library=esetVis.buildbin-libdir esetVis_1.30.0.tar.gz StartedAt: 2024-10-17 07:46:31 -0400 (Thu, 17 Oct 2024) EndedAt: 2024-10-17 07:46:59 -0400 (Thu, 17 Oct 2024) EllapsedTime: 28.1 seconds RetCode: 0 Status: OK PackageFile: esetVis_1.30.0.zip PackageFileSize: 2.767 MiB