Package: esetVis Version: 1.30.0 Command: F:\biocbuild\bbs-3.19-bioc\R\bin\R.exe CMD check --no-multiarch --install=check:esetVis.install-out.txt --library=F:\biocbuild\bbs-3.19-bioc\R\library --no-vignettes --timings esetVis_1.30.0.tar.gz StartedAt: 2024-06-27 01:30:17 -0400 (Thu, 27 Jun 2024) EndedAt: 2024-06-27 01:34:15 -0400 (Thu, 27 Jun 2024) EllapsedTime: 237.9 seconds RetCode: 0 Status: OK CheckDir: esetVis.Rcheck Warnings: 0