Package: esetVis Version: 1.30.0 Command: /home/biocbuild/bbs-3.19-bioc/R/bin/R CMD INSTALL esetVis StartedAt: 2024-10-16 16:04:52 -0400 (Wed, 16 Oct 2024) EndedAt: 2024-10-16 16:05:07 -0400 (Wed, 16 Oct 2024) EllapsedTime: 14.6 seconds RetCode: 0 Status: OK