Package: esetVis Version: 1.30.0 Command: /home/biocbuild/bbs-3.19-bioc/R/bin/R CMD build --keep-empty-dirs --no-resave-data esetVis StartedAt: 2024-10-16 18:26:12 -0400 (Wed, 16 Oct 2024) EndedAt: 2024-10-16 18:27:41 -0400 (Wed, 16 Oct 2024) EllapsedTime: 89.3 seconds RetCode: 0 Status: OK PackageFile: esetVis_1.30.0.tar.gz PackageFileSize: 2.96 MiB