Package: esetVis Version: 1.30.0 Command: rm -rf esetVis.buildbin-libdir && mkdir esetVis.buildbin-libdir && /Users/biocbuild/BBS/utils/build-universal.sh esetVis_1.30.0.tar.gz /Library/Frameworks/R.framework/Resources/bin/R esetVis.buildbin-libdir StartedAt: 2024-06-10 00:17:28 -0400 (Mon, 10 Jun 2024) EndedAt: 2024-06-10 00:17:51 -0400 (Mon, 10 Jun 2024) EllapsedTime: 23.7 seconds RetCode: 0 Status: OK PackageFile: esetVis_1.30.0.tgz PackageFileSize: 4.615 MiB