Package: esetVis Version: 1.30.0 Command: /home/biocbuild/R/R-beta-2024-04-15_r86425/bin/R CMD INSTALL esetVis StartedAt: 2024-05-08 20:23:13 -0000 (Wed, 08 May 2024) EndedAt: 2024-05-08 20:23:34 -0000 (Wed, 08 May 2024) EllapsedTime: 20.6 seconds RetCode: 0 Status: OK