Package: esetVis Version: 1.30.0 Command: /home/biocbuild/R/R-beta-2024-04-15_r86425/bin/R CMD build --keep-empty-dirs --no-resave-data esetVis StartedAt: 2024-05-09 00:12:18 -0000 (Thu, 09 May 2024) EndedAt: 2024-05-09 00:15:48 -0000 (Thu, 09 May 2024) EllapsedTime: 210.3 seconds RetCode: 0 Status: OK PackageFile: esetVis_1.30.0.tar.gz PackageFileSize: 3.014 MiB