Package: esetVis Version: 1.30.0 Command: rm -rf esetVis.buildbin-libdir && mkdir esetVis.buildbin-libdir && /Users/biocbuild/BBS/utils/build-universal.sh esetVis_1.30.0.tar.gz /Library/Frameworks/R.framework/Resources/bin/R esetVis.buildbin-libdir StartedAt: 2024-10-18 18:25:45 -0400 (Fri, 18 Oct 2024) EndedAt: 2024-10-18 18:26:09 -0400 (Fri, 18 Oct 2024) EllapsedTime: 23.8 seconds RetCode: 0 Status: OK PackageFile: esetVis_1.30.0.tgz PackageFileSize: 4.612 MiB