Package: escheR Version: 1.4.0 Command: /Library/Frameworks/R.framework/Resources/bin/R CMD build --keep-empty-dirs --no-resave-data escheR StartedAt: 2024-10-16 19:07:07 -0400 (Wed, 16 Oct 2024) EndedAt: 2024-10-16 19:13:33 -0400 (Wed, 16 Oct 2024) EllapsedTime: 385.6 seconds RetCode: 0 Status: OK PackageFile: escheR_1.4.0.tar.gz PackageFileSize: 3.546 MiB