Package: escheR Version: 1.4.0 Command: /Library/Frameworks/R.framework/Resources/bin/R CMD INSTALL escheR StartedAt: 2024-10-16 18:22:27 -0400 (Wed, 16 Oct 2024) EndedAt: 2024-10-16 18:22:57 -0400 (Wed, 16 Oct 2024) EllapsedTime: 30.0 seconds RetCode: 0 Status: OK