Package: escape Version: 2.0.0 Command: E:\biocbuild\bbs-3.19-bioc\R\bin\R.exe CMD check --no-multiarch --install=check:escape.install-out.txt --library=E:\biocbuild\bbs-3.19-bioc\R\library --no-vignettes --timings escape_2.0.0.tar.gz StartedAt: 2024-10-17 01:20:01 -0400 (Thu, 17 Oct 2024) EndedAt: 2024-10-17 01:28:22 -0400 (Thu, 17 Oct 2024) EllapsedTime: 501.1 seconds RetCode: 0 Status: OK CheckDir: escape.Rcheck Warnings: 0