Package: escape Version: 2.0.0 Command: /Library/Frameworks/R.framework/Resources/bin/R CMD check --install=check:escape.install-out.txt --library=/Library/Frameworks/R.framework/Resources/library --no-vignettes --timings escape_2.0.0.tar.gz StartedAt: 2024-10-17 05:03:40 -0400 (Thu, 17 Oct 2024) EndedAt: 2024-10-17 05:20:52 -0400 (Thu, 17 Oct 2024) EllapsedTime: 1032.1 seconds RetCode: 0 Status: OK CheckDir: escape.Rcheck Warnings: 0