Package: esATAC Version: 1.26.0 Command: /home/biocbuild/R/R-beta-2024-04-15_r86425/bin/R CMD check --install=check:esATAC.install-out.txt --library=/home/biocbuild/R/R-beta-2024-04-15_r86425/site-library --no-vignettes --timings esATAC_1.26.0.tar.gz StartedAt: 2024-05-09 07:15:27 -0000 (Thu, 09 May 2024) EndedAt: 2024-05-09 07:25:17 -0000 (Thu, 09 May 2024) EllapsedTime: 590.1 seconds RetCode: 0 Status: OK CheckDir: esATAC.Rcheck Warnings: 0