Package: esATAC Version: 1.26.0 Command: /home/biocbuild/R/R-beta-2024-04-15_r86425/bin/R CMD build --keep-empty-dirs --no-resave-data esATAC StartedAt: 2024-05-09 00:11:48 -0000 (Thu, 09 May 2024) EndedAt: 2024-05-09 00:14:23 -0000 (Thu, 09 May 2024) EllapsedTime: 155.2 seconds RetCode: 0 Status: OK PackageFile: esATAC_1.26.0.tar.gz PackageFileSize: 9.864 MiB