Package: esATAC Version: 1.26.0 Command: /Library/Frameworks/R.framework/Resources/bin/R CMD build --keep-empty-dirs --no-resave-data esATAC StartedAt: 2024-06-09 21:23:46 -0400 (Sun, 09 Jun 2024) EndedAt: 2024-06-09 21:26:25 -0400 (Sun, 09 Jun 2024) EllapsedTime: 158.1 seconds RetCode: 0 Status: OK PackageFile: esATAC_1.26.0.tar.gz PackageFileSize: 9.863 MiB