Package: esATAC Version: 1.26.0 Command: /Library/Frameworks/R.framework/Resources/bin/R CMD build --keep-empty-dirs --no-resave-data esATAC StartedAt: 2024-10-17 00:14:29 -0400 (Thu, 17 Oct 2024) EndedAt: 2024-10-17 00:16:18 -0400 (Thu, 17 Oct 2024) EllapsedTime: 109.7 seconds RetCode: 0 Status: OK PackageFile: esATAC_1.26.0.tar.gz PackageFileSize: 9.863 MiB