Package: erma Version: 1.20.0 Command: /home/biocbuild/R/R-beta-2024-04-15_r86425/bin/R CMD check --install=check:erma.install-out.txt --library=/home/biocbuild/R/R-beta-2024-04-15_r86425/site-library --no-vignettes --timings erma_1.20.0.tar.gz StartedAt: 2024-05-09 07:15:22 -0000 (Thu, 09 May 2024) EndedAt: 2024-05-09 07:23:11 -0000 (Thu, 09 May 2024) EllapsedTime: 468.8 seconds RetCode: 0 Status: OK CheckDir: erma.Rcheck Warnings: 0