Package: erccdashboard Version: 1.38.0 Command: chmod a+r erccdashboard -R && E:\biocbuild\bbs-3.19-bioc\R\bin\R.exe CMD build --keep-empty-dirs --no-resave-data erccdashboard StartedAt: 2024-10-16 19:01:34 -0400 (Wed, 16 Oct 2024) EndedAt: 2024-10-16 19:07:37 -0400 (Wed, 16 Oct 2024) EllapsedTime: 362.5 seconds RetCode: 0 Status: OK PackageFile: erccdashboard_1.38.0.tar.gz PackageFileSize: 1.508 MiB