Package: erccdashboard Version: 1.38.0 Command: rm -rf erccdashboard.buildbin-libdir && mkdir erccdashboard.buildbin-libdir && E:\biocbuild\bbs-3.19-bioc\R\bin\R.exe CMD INSTALL --build --library=erccdashboard.buildbin-libdir erccdashboard_1.38.0.tar.gz StartedAt: 2024-10-17 07:46:18 -0400 (Thu, 17 Oct 2024) EndedAt: 2024-10-17 07:46:36 -0400 (Thu, 17 Oct 2024) EllapsedTime: 18.1 seconds RetCode: 0 Status: OK PackageFile: erccdashboard_1.38.0.zip PackageFileSize: 2.043 MiB