Package: erccdashboard Version: 1.38.0 Command: rm -rf erccdashboard.buildbin-libdir && mkdir erccdashboard.buildbin-libdir && F:\biocbuild\bbs-3.19-bioc\R\bin\R.exe CMD INSTALL --build --library=erccdashboard.buildbin-libdir erccdashboard_1.38.0.tar.gz StartedAt: 2024-06-27 08:11:10 -0400 (Thu, 27 Jun 2024) EndedAt: 2024-06-27 08:11:23 -0400 (Thu, 27 Jun 2024) EllapsedTime: 13.0 seconds RetCode: 0 Status: OK PackageFile: erccdashboard_1.38.0.zip PackageFileSize: 2.042 MiB