Package: erccdashboard Version: 1.38.0 Command: rm -rf erccdashboard.buildbin-libdir && mkdir erccdashboard.buildbin-libdir && /Users/biocbuild/BBS/utils/build-universal.sh erccdashboard_1.38.0.tar.gz /Library/Frameworks/R.framework/Resources/bin/R erccdashboard.buildbin-libdir StartedAt: 2024-10-17 16:07:22 -0400 (Thu, 17 Oct 2024) EndedAt: 2024-10-17 16:07:43 -0400 (Thu, 17 Oct 2024) EllapsedTime: 20.6 seconds RetCode: 0 Status: OK PackageFile: erccdashboard_1.38.0.tgz PackageFileSize: 2.497 MiB