Package: erccdashboard Version: 1.38.0 Command: rm -rf erccdashboard.buildbin-libdir && mkdir erccdashboard.buildbin-libdir && /Users/biocbuild/BBS/utils/build-universal.sh erccdashboard_1.38.0.tar.gz /Library/Frameworks/R.framework/Resources/bin/R erccdashboard.buildbin-libdir StartedAt: 2024-06-11 11:08:50 -0400 (Tue, 11 Jun 2024) EndedAt: 2024-06-11 11:09:09 -0400 (Tue, 11 Jun 2024) EllapsedTime: 19.6 seconds RetCode: 0 Status: OK PackageFile: erccdashboard_1.38.0.tgz PackageFileSize: 2.517 MiB